BEGIN:VCALENDAR
VERSION:2.0
PRODID:-//Prevention Link - ECPv6.3.6//NONSGML v1.0//EN
CALSCALE:GREGORIAN
METHOD:PUBLISH
X-WR-CALNAME:Prevention Link
X-ORIGINAL-URL:https://www.preventionlink.ca
X-WR-CALDESC:Events for Prevention Link
REFRESH-INTERVAL;VALUE=DURATION:PT1H
X-Robots-Tag:noindex
X-PUBLISHED-TTL:PT1H
BEGIN:VTIMEZONE
TZID:America/Toronto
BEGIN:DAYLIGHT
TZOFFSETFROM:-0500
TZOFFSETTO:-0400
TZNAME:EDT
DTSTART:20240310T070000
END:DAYLIGHT
BEGIN:STANDARD
TZOFFSETFROM:-0400
TZOFFSETTO:-0500
TZNAME:EST
DTSTART:20241103T060000
END:STANDARD
END:VTIMEZONE
BEGIN:VEVENT
DTSTART;VALUE=DATE:20240916
DTEND;VALUE=DATE:20240921
DTSTAMP:20260424T144225
CREATED:20240412T132531Z
LAST-MODIFIED:20240627T132944Z
UID:13397-1726444800-1726876799@www.preventionlink.ca
SUMMARY:Level 4 Return To Work - In-Person
DESCRIPTION:LEVEL 4  Return to Work September 16-20\, 2024 (In-Person) \nWhere: Cambridge Hotel & Conference Centre\n700 Hespeler Road\nCambridge\, ON N3H 5L8 \nThis course is designed for those who will or currently assist injured workers individually or\ncollectively through a therapeutic return to work (RTW) and provides workplace parties with the\ntools necessary to develop strategies that ensure successful outcomes. Through the exploration\nof leading research\, law and evidence-based best practices\, participants will learn the principles\nof good return to work practices and the Duty to Accommodate. Legal lessons from precedent\nsetting cases are reviewed and participants put these legal concepts into practical use preparing\nand participating in return-to-work meetings and scenarios. \nBarriers to successful return to work are addressed with a focus on attitudinal barriers and their\nelimination using the social model of disability and therapeutic return-to-work principles. \nPrerequisites required for this course: Level 1 & Level 2 \nRegistration Deadline: September 1\, 2024. There will be no exceptions to this deadline. The deadline has been established to allow Prevention Link to properly prepare for this course. \nRegister two or more participants for $100 off!\nCost: $995.00 (HST incl.)\nWhen booking accommodation with Cambridge Hotel & Conference Centre\, please note Prevention Link for the discounted rate. \n  \n \n  \nPREVENTION LINK BOOKING AND CANCELLATION POLICY: \nCourse numbers are limited to ensure a quality learning experience for all participants. Places are allocated in order of receipt of registration form. Written cancellation received 10 working days prior to the first day of training are subject to a 25% administration charge. Cancellations received thereafter are refunded at 50% of the registration fee. \nPrevention Link may cancel any training session at any time and a full refund will be issued. Every effort will be made to ensure that registrants of a cancelled course are placed in the next available course. Prevention Link is not responsible for wages\, non-refundable travel\, meal or accommodation costs. Should a participant be unable to attend the next available course\, an alternate participant is welcomed at no additional charge. \nPREVENTION LINK PRIVACY POLICY: \nPrevention Link is committed to protecting your privacy and the confidentiality of information provided to us as regulated by Privacy Legislation. Information provided is used to process registration and to keep our records current so that you can be informed of course cancellations\, current and future workplace insurance and disability prevention training opportunities and other prospective events that may be of interest to you. \nInformation provided by you may be disclosed to a relevant third party as a part of a grant agreement audit requirement. Information may also be disclosed to our affiliate organizations as an update report on their member training.
URL:https://www.preventionlink.ca/event/level-4-return-to-work-in-person-2/
LOCATION:Ontario
CATEGORIES:Level Four: Return to Work
ORGANIZER;CN="Nicole Brayiannis":MAILTO:nbrayiannis@preventionlink.ca
END:VEVENT
END:VCALENDAR