BEGIN:VCALENDAR
VERSION:2.0
PRODID:-//Prevention Link - ECPv6.3.6//NONSGML v1.0//EN
CALSCALE:GREGORIAN
METHOD:PUBLISH
X-WR-CALNAME:Prevention Link
X-ORIGINAL-URL:https://www.preventionlink.ca
X-WR-CALDESC:Events for Prevention Link
REFRESH-INTERVAL;VALUE=DURATION:PT1H
X-Robots-Tag:noindex
X-PUBLISHED-TTL:PT1H
BEGIN:VTIMEZONE
TZID:America/Toronto
BEGIN:DAYLIGHT
TZOFFSETFROM:-0500
TZOFFSETTO:-0400
TZNAME:EDT
DTSTART:20230312T070000
END:DAYLIGHT
BEGIN:STANDARD
TZOFFSETFROM:-0400
TZOFFSETTO:-0500
TZNAME:EST
DTSTART:20231105T060000
END:STANDARD
END:VTIMEZONE
BEGIN:VEVENT
DTSTART;VALUE=DATE:20230423
DTEND;VALUE=DATE:20230429
DTSTAMP:20260421T220032
CREATED:20230126T031533Z
LAST-MODIFIED:20230412T134404Z
UID:11625-1682208000-1682726399@www.preventionlink.ca
SUMMARY:Level 1 & Level 2 – Workers’ Comp spring training – In-Person
DESCRIPTION:WORKERS’ COMP SPRING TRAINING\nParticipants in this training series will have the option of taking either our popular introductory courses of Level 1 & Level 2\, or taking our Level 4 course\, Return to Work. \nOnly Level 1: Rights & Obligations & Level 2: Benefits & Services tickets are available to purchase on this page. For Level 4\, please see this page.  \nLevel 1: Rights & Obligations\n» History & principles of workers’ compensation\n» Types of injuries and illnesses\n» Reporting an injury and filing a claim\n» Legal tests for entitlement \nAND \nLevel 2: Benefits & Services\n(Prerequisite: Level 1)\n» Regulation & policy\n» Benefits & services\n» Funding the system\n» Professional responsibilities\n» Calculation of benefits \nCost: $1\,800.00. Cost is based on single-occupancy room and meal plan. Deadline to register: April 10\, 2023.\nRegister before March 24 to get $100.00 discount! \n  \n \nPREVENTION LINK BOOKING AND CANCELLATION POLICY: \nCourse numbers are limited to ensure a quality learning experience for all participants. Places are allocated in order of receipt of registration form. Written cancellation received 10 working days prior to the first day of training are subject to a 25% administration charge. Cancellations received thereafter are refunded at 50% of the registration fee. \nPrevention Link may cancel any training session at any time and a full refund will be issued. Every effort will be made to ensure that registrants of a cancelled course are placed in the next available course. Prevention Link is not responsible for wages\, non-refundable travel\, meal or accommodation costs. Should a participant be unable to attend the next available course\, an alternate participant is welcomed at no additional charge. \nPREVENTION LINK PRIVACY POLICY: \nPrevention Link is committed to protecting your privacy and the confidentiality of information provided to us as regulated by Privacy Legislation. Information provided is used to process registration and to keep our records current so that you can be informed of course cancellations\, current and future workplace insurance and disability prevention training opportunities and other prospective events that may be of interest to you. \nInformation provided by you may be disclosed to a relevant third party as a part of a grant agreement audit requirement. Information may also be disclosed to our affiliate organizations as an update report on their member training.
URL:https://www.preventionlink.ca/event/workers-comp-spring-training-level-1-level-2-in-person/
LOCATION:Bayview Wildwood Conference Centre\, Port Stanton\, ON\, Canada
CATEGORIES:Level One: Rights and Obligations,Level Two: Benefits and Services
ORGANIZER;CN="Margueritte Lofoli":MAILTO:mlofoli@preventionlink.ca
END:VEVENT
END:VCALENDAR