BEGIN:VCALENDAR
VERSION:2.0
PRODID:-//Prevention Link - ECPv6.3.6//NONSGML v1.0//EN
CALSCALE:GREGORIAN
METHOD:PUBLISH
X-WR-CALNAME:Prevention Link
X-ORIGINAL-URL:https://www.preventionlink.ca
X-WR-CALDESC:Events for Prevention Link
REFRESH-INTERVAL;VALUE=DURATION:PT1H
X-Robots-Tag:noindex
X-PUBLISHED-TTL:PT1H
BEGIN:VTIMEZONE
TZID:America/Toronto
BEGIN:DAYLIGHT
TZOFFSETFROM:-0500
TZOFFSETTO:-0400
TZNAME:EDT
DTSTART:20170312T070000
END:DAYLIGHT
BEGIN:STANDARD
TZOFFSETFROM:-0400
TZOFFSETTO:-0500
TZNAME:EST
DTSTART:20171105T060000
END:STANDARD
BEGIN:DAYLIGHT
TZOFFSETFROM:-0500
TZOFFSETTO:-0400
TZNAME:EDT
DTSTART:20180311T070000
END:DAYLIGHT
BEGIN:STANDARD
TZOFFSETFROM:-0400
TZOFFSETTO:-0500
TZNAME:EST
DTSTART:20181104T060000
END:STANDARD
END:VTIMEZONE
BEGIN:VEVENT
DTSTART;VALUE=DATE:20180318
DTEND;VALUE=DATE:20180324
DTSTAMP:20260420T093432
CREATED:20171206T195317Z
LAST-MODIFIED:20180201T144411Z
UID:5680-1521331200-1521849599@www.preventionlink.ca
SUMMARY:CLC Ontario Region's 2018 Winter School
DESCRIPTION:Ontario Region’s 2018 Winter School\nThe Canadian Labour Congress (CLC) Ontario Region’s 2018 Winter School will include our Occupational Disability Response Training (ODRT) – Workers’ Compensation Vitals\, as part of its course curriculum\, from March 18-23 at the Nav Canada Centre in Cornwall. \nLearn more about Workers’ Compensation Vitals (no pre-requisite): \n\nWorkers’ Compensation 101\nDisability Prevention Strategies\nOccupational Hearing Loss\nOccupational Mental Health and Illness 101\n\nTo register for this event\, visit the Canadian Labour Congress website.  \nShould you have any questions about the Ontario Region Winter School\, please contact the CLC Ontario Regional Office (Phone #: 416-441-3710 or 1-800-387-3500\, ext. 222 or 221\, or by email: ontario@clc-ctc.ca.)
URL:https://www.preventionlink.ca/event/clc-winter-school-2018/
LOCATION:Nav Canada Centre\, 1950 Montreal Rd\, Cornwall\, Ontario\, K6H 6L2\, Canada
CATEGORIES:Disability Prevention Strategies,Mental Health 101,Occupational Hearing Loss,Workers's Compensation 101
ORGANIZER;CN="Ontario Region of the Canadian Labour Congress":MAILTO:ontario@clc-ctc.ca
GEO:45.0288062;-74.6818343
X-APPLE-STRUCTURED-LOCATION;VALUE=URI;X-ADDRESS=Nav Canada Centre 1950 Montreal Rd Cornwall Ontario K6H 6L2 Canada;X-APPLE-RADIUS=500;X-TITLE=1950 Montreal Rd:geo:-74.6818343,45.0288062
END:VEVENT
BEGIN:VEVENT
DTSTART;TZID=America/Toronto:20171022T150000
DTEND;TZID=America/Toronto:20171027T120000
DTSTAMP:20260420T093432
CREATED:20170818T170509Z
LAST-MODIFIED:20170913T185441Z
UID:5273-1508684400-1509105600@www.preventionlink.ca
SUMMARY:Prevention Link's Fall School 2017
DESCRIPTION:Learn how to promote a culture of safety & improved RTW outcomes!\n\nTake a comprehensive week-long workers’ compensation training that offers courses to certify you in preventing and reducing the impacts of occupational illness\, disease or injury in your workplace.\nCourses offered:\n\n\nLevel 1 – Rights & Obligations\nLevel 2 – Benefits & Services\nLevel 4 – Return to Work (pre-requisite: Level 1 & 2)\nLevel 5 – Medical Orientation (pre-requisite: Appeals or Return to Work)\nLevel 6 – Occupational Disease (pre-requisite: Appeals or RTW and Medical Orientation)\nWorkers’ Compensation Vitals – Workers’ Compensation 101\, Disability Prevention Strategies\, Occupational Hearing Loss\, Occupational Mental Health and Illness 101 (no pre-requisite)\n\nCost: $650 ($50 Early Bird Discount when you register before September 15). Use coupon code: Fall17 at checkout.\nTime: Registration runs from 3-5 p.m. on Sunday\, October 22.\nClasses start at 7 p.m. on Sunday evening and end Friday at noon. \n* Includes workshop materials\, specialist instruction\, certiﬁcate of completion and lunch\n* Participants are responsible for their own accommodations. To book rooms\, call: 519-439-1661 or online at http://bit.ly/2vPMogs. Refer to Promo Code: PLW \nWho should attend: WSIB representatives\, RTW specialists\, H&S reps.\, Human Resources\, union leadership and union stewards \nDownload the registration form for Fall School October 2017 \n*Purchase tickets below*
URL:https://www.preventionlink.ca/event/prevention-links-fall-school-2017/
LOCATION:Doubletree by Hilton Hotel\, 300 King Street\, London\, Ontario\, Canada
CATEGORIES:Disability Prevention Strategies,Level Five: Medical Orientation,Level Four: Return to Work,Level One: Rights and Obligations,Level Six: Occupational Disease,Level Two: Benefits and Services,Mental Health 101,Occupational Hearing Loss,Workers's Compensation 101
GEO:42.9845014;-81.2435823
X-APPLE-STRUCTURED-LOCATION;VALUE=URI;X-ADDRESS=Doubletree by Hilton Hotel 300 King Street London Ontario Canada;X-APPLE-RADIUS=500;X-TITLE=300 King Street:geo:-81.2435823,42.9845014
END:VEVENT
END:VCALENDAR