BEGIN:VCALENDAR
VERSION:2.0
PRODID:-//Prevention Link - ECPv6.3.6//NONSGML v1.0//EN
CALSCALE:GREGORIAN
METHOD:PUBLISH
X-ORIGINAL-URL:https://www.preventionlink.ca
X-WR-CALDESC:Events for Prevention Link
REFRESH-INTERVAL;VALUE=DURATION:PT1H
X-Robots-Tag:noindex
X-PUBLISHED-TTL:PT1H
BEGIN:VTIMEZONE
TZID:America/Toronto
BEGIN:DAYLIGHT
TZOFFSETFROM:-0500
TZOFFSETTO:-0400
TZNAME:EDT
DTSTART:20210314T070000
END:DAYLIGHT
BEGIN:STANDARD
TZOFFSETFROM:-0400
TZOFFSETTO:-0500
TZNAME:EST
DTSTART:20211107T060000
END:STANDARD
END:VTIMEZONE
BEGIN:VEVENT
DTSTART;VALUE=DATE:20210317
DTEND;VALUE=DATE:20210401
DTSTAMP:20260420T133652
CREATED:20210129T204344Z
LAST-MODIFIED:20210219T150342Z
UID:8139-1615939200-1617235199@www.preventionlink.ca
SUMMARY:Level 1 Virtual Training
DESCRIPTION:Level 1 Virtual Training 2021\, 2-Week Model\nExplore your rights & obligations under the Workplace Safety and Insurance Act. There are 8 self-paced modules (10 hours)\, with presentations\, videos\, discussions\, quizzes and Prevention Link team there to support you to make this important online training very interesting. \nThe deadline to register for this two-week online course is March 5\, 2021.
URL:https://www.preventionlink.ca/event/level-1-virtual-training/
LOCATION:Ontario
CATEGORIES:Level One: Rights and Obligations
ORGANIZER;CN="Sue Fratric":MAILTO:info@preventionlink.ca
END:VEVENT
BEGIN:VEVENT
DTSTART;TZID=America/Toronto:20210325T093000
DTEND;TZID=America/Toronto:20210325T123000
DTSTAMP:20260420T133652
CREATED:20210122T185623Z
LAST-MODIFIED:20230130T220016Z
UID:8023-1616664600-1616675400@www.preventionlink.ca
SUMMARY:Mental Health 101\, Mindfulness & Challenges in Life & Self Care
DESCRIPTION:Facilitated by Registered Nurse Wendy Stanyon\, Educator at the Ontario Tech University\, Prevention Link is hosting an online 1/2 day workshop created for basic training for Mental Health in the workplace and conversations around destigmatization. It is stated that one in five Canadians will develop a mental illness in their lifetime and during this pandemic\, we can imagine many more Canadians will be facing even greater challenges. \nYou can pick any one of these days and register online at www.preventionlink.ca/events/category/mental-health-101/list/ \nSession 1 : Mental Health 101 \nSession 2: Mindfulness & Challenges in Life & Self Care \nPricing:\n$79.00 for dual sessions. \n$49.00 for single session. \nDates: February 25th  & March 25th  \nRegister now as spots will fill up quick! If you require financial assistance\, email info@preventionlink.ca for an available bursary (limited quantity available).
URL:https://www.preventionlink.ca/event/mental-health-101-mindfulness-challenges-in-life-self-care-2/
LOCATION:Ontario
CATEGORIES:Mental Health 101
END:VEVENT
END:VCALENDAR