BEGIN:VCALENDAR
VERSION:2.0
PRODID:-//Prevention Link - ECPv6.3.6//NONSGML v1.0//EN
CALSCALE:GREGORIAN
METHOD:PUBLISH
X-WR-CALNAME:Prevention Link
X-ORIGINAL-URL:https://www.preventionlink.ca
X-WR-CALDESC:Events for Prevention Link
REFRESH-INTERVAL;VALUE=DURATION:PT1H
X-Robots-Tag:noindex
X-PUBLISHED-TTL:PT1H
BEGIN:VTIMEZONE
TZID:America/Toronto
BEGIN:DAYLIGHT
TZOFFSETFROM:-0500
TZOFFSETTO:-0400
TZNAME:EDT
DTSTART:20120311T070000
END:DAYLIGHT
BEGIN:STANDARD
TZOFFSETFROM:-0400
TZOFFSETTO:-0500
TZNAME:EST
DTSTART:20121104T060000
END:STANDARD
END:VTIMEZONE
BEGIN:VEVENT
DTSTART;VALUE=DATE:20121020
DTEND;VALUE=DATE:20121022
DTSTAMP:20260423T001623
CREATED:20120802T154705Z
LAST-MODIFIED:20120802T154705Z
UID:2445-1350691200-1350863999@www.preventionlink.ca
SUMMARY:Workplace Insurance - Benefits & Services
DESCRIPTION:The ODRT’s Workplace Insurance – Benefits and Services course is 12 hours in duration and provides comprehensive information on key provisions of Ontario’s Workplace Safety and Insurance Act.  It is directed at workplace benefit reps\, return to work specialists\, health and safety\, human resources\, workplace leadership and shop stewards.  To register contact Fanshawe College or call 519-452-4444.  Course Fees are paid directly to Fanshawe College and the course code is Level II: MGMT-9121-60LC \nClasses begin the weekend of October 20 & 21 in room A2012
URL:https://www.preventionlink.ca/event/workplace-insurance-benefits-services/
LOCATION:Fanshawe College\, 1001 Fanshawe College Boulevard\, London\, Ontario\, Canada
ORGANIZER;CN="Jody Jones":MAILTO:jodyjones@odrt.ca
GEO:43.0143478;-81.1985777
X-APPLE-STRUCTURED-LOCATION;VALUE=URI;X-ADDRESS=Fanshawe College 1001 Fanshawe College Boulevard London Ontario Canada;X-APPLE-RADIUS=500;X-TITLE=1001 Fanshawe College Boulevard:geo:-81.1985777,43.0143478
END:VEVENT
BEGIN:VEVENT
DTSTART;VALUE=DATE:20121013
DTEND;VALUE=DATE:20121015
DTSTAMP:20260423T001623
CREATED:20120802T154020Z
LAST-MODIFIED:20120802T154908Z
UID:2442-1350086400-1350259199@www.preventionlink.ca
SUMMARY:Workplace Insurance - Rights and Obligations
DESCRIPTION:The ODRT’s Workplace Insurance – Rights & Obligations course is 12 hours in duration and provides key information for anyone wanting to know about Ontario’s Workplace Safety and Insurance Act.  It is directed at workplace benefit reps\, return to work specialists\, health and safety\, human resources\, workplace leadership and shop stewards.  To register contact Fanshawe College or call 519-452-4444.  Course Fees are paid directly to Fanshawe College and the course code is Level I: MGMT-9093-60LC. \nClasses begin the weekend of October 13 & 14 in room A2012
URL:https://www.preventionlink.ca/event/workplace-insurance-rights-and-obligations/
LOCATION:Fanshawe College\, 1001 Fanshawe College Boulevard\, London\, Ontario\, Canada
ORGANIZER;CN="Jody Jones":MAILTO:jodyjones@odrt.ca
GEO:43.0143478;-81.1985777
X-APPLE-STRUCTURED-LOCATION;VALUE=URI;X-ADDRESS=Fanshawe College 1001 Fanshawe College Boulevard London Ontario Canada;X-APPLE-RADIUS=500;X-TITLE=1001 Fanshawe College Boulevard:geo:-81.1985777,43.0143478
END:VEVENT
END:VCALENDAR