BEGIN:VCALENDAR
VERSION:2.0
PRODID:-//Prevention Link - ECPv6.3.6//NONSGML v1.0//EN
CALSCALE:GREGORIAN
METHOD:PUBLISH
X-ORIGINAL-URL:https://www.preventionlink.ca
X-WR-CALDESC:Events for Prevention Link
REFRESH-INTERVAL;VALUE=DURATION:PT1H
X-Robots-Tag:noindex
X-PUBLISHED-TTL:PT1H
BEGIN:VTIMEZONE
TZID:America/Toronto
BEGIN:DAYLIGHT
TZOFFSETFROM:-0500
TZOFFSETTO:-0400
TZNAME:EDT
DTSTART:20190310T070000
END:DAYLIGHT
BEGIN:STANDARD
TZOFFSETFROM:-0400
TZOFFSETTO:-0500
TZNAME:EST
DTSTART:20191103T060000
END:STANDARD
END:VTIMEZONE
BEGIN:VEVENT
DTSTART;VALUE=DATE:20190227
DTEND;VALUE=DATE:20190301
DTSTAMP:20260420T134039
CREATED:20181130T180358Z
LAST-MODIFIED:20190225T183815Z
UID:6634-1551225600-1551398399@www.preventionlink.ca
SUMMARY:2019 Workers’ Compensation 101 & Return to Work 101 Workshop – BRANTFORD
DESCRIPTION:Join Prevention Link for a comprehensive workshop that introduces participants to Ontario’s compensation system by exploring compensation legislation\, its principles and third party rights of action\, services and benefits\, as well as strategies to assist workers’ with disabilities.\n\n\n\n\n\n\n\n\n\n\n\n\n\n\n\n\n\n\nCourses offered:  \n\nWorkers’ Compensation 101  on Feb. 27\, 2019\nReturn to Work 101 on Feb. 28\, 2019\n\nWho should attend: Anyone in a role with whom workers make contact following a workplace injury or with disability accommodation requests: workers\, employers\, union reps\, stewards\, supervisors. \nCourse Time: 9:00 a.m. – 4 p.m. \nCost:\nOne-Course Package (Workers’ Comp 101 or Return to Work 101): $149.00 per person\nTwo-Course Package (Workers’ Comp 101 & Return to Work 101 taken together): $275.00 per person.\n**Cost includes course material\, guided instruction\, certificate of completion\, lunch. \n\nREGISTER BELOW OR DOWNLOAD THE REGISTRATION FORM HERE.
URL:https://www.preventionlink.ca/event/2019-workers-compensation-101-return-to-work-101-workshop-brantford/
LOCATION:Brantford Labour Council\, 1100 Clarence Street - 2nd Floor\, Brantford\, Ontario\, N3S 7N8\, Canada
GEO:43.137572;-80.258834
X-APPLE-STRUCTURED-LOCATION;VALUE=URI;X-ADDRESS=Brantford Labour Council 1100 Clarence Street - 2nd Floor Brantford Ontario N3S 7N8 Canada;X-APPLE-RADIUS=500;X-TITLE=1100 Clarence Street - 2nd Floor:geo:-80.258834,43.137572
END:VEVENT
END:VCALENDAR