BEGIN:VCALENDAR
VERSION:2.0
PRODID:-//Prevention Link - ECPv6.3.6//NONSGML v1.0//EN
CALSCALE:GREGORIAN
METHOD:PUBLISH
X-ORIGINAL-URL:https://www.preventionlink.ca
X-WR-CALDESC:Events for Prevention Link
REFRESH-INTERVAL;VALUE=DURATION:PT1H
X-Robots-Tag:noindex
X-PUBLISHED-TTL:PT1H
BEGIN:VTIMEZONE
TZID:America/Toronto
BEGIN:DAYLIGHT
TZOFFSETFROM:-0500
TZOFFSETTO:-0400
TZNAME:EDT
DTSTART:20130310T070000
END:DAYLIGHT
BEGIN:STANDARD
TZOFFSETFROM:-0400
TZOFFSETTO:-0500
TZNAME:EST
DTSTART:20131103T060000
END:STANDARD
END:VTIMEZONE
BEGIN:VEVENT
DTSTART;TZID=America/Toronto:20131017T083000
DTEND;TZID=America/Toronto:20131017T130000
DTSTAMP:20260421T222206
CREATED:20130814T193341Z
LAST-MODIFIED:20131017T205823Z
UID:2875-1381998600-1382014800@www.preventionlink.ca
SUMMARY:Disability Prevention Roadmap (St Catharines)
DESCRIPTION:This event is being  rescheduled due to low enrollment. 
URL:https://www.preventionlink.ca/event/disability-prevention-roadmap-st-catharines/
LOCATION:CAW 199\, 124 Bunting Road\, St Catharines\, ON\, Canada
ORGANIZER;CN="Nancy Clark":MAILTO:nclark@odrt.ca
GEO:43.1643407;-79.2097473
X-APPLE-STRUCTURED-LOCATION;VALUE=URI;X-ADDRESS=CAW 199 124 Bunting Road St Catharines ON Canada;X-APPLE-RADIUS=500;X-TITLE=124 Bunting Road:geo:-79.2097473,43.1643407
END:VEVENT
END:VCALENDAR