BEGIN:VCALENDAR
VERSION:2.0
PRODID:-//Prevention Link - ECPv6.3.6//NONSGML v1.0//EN
CALSCALE:GREGORIAN
METHOD:PUBLISH
X-WR-CALNAME:Prevention Link
X-ORIGINAL-URL:https://www.preventionlink.ca
X-WR-CALDESC:Events for Prevention Link
REFRESH-INTERVAL;VALUE=DURATION:PT1H
X-Robots-Tag:noindex
X-PUBLISHED-TTL:PT1H
BEGIN:VTIMEZONE
TZID:America/Toronto
BEGIN:DAYLIGHT
TZOFFSETFROM:-0500
TZOFFSETTO:-0400
TZNAME:EDT
DTSTART:20130310T070000
END:DAYLIGHT
BEGIN:STANDARD
TZOFFSETFROM:-0400
TZOFFSETTO:-0500
TZNAME:EST
DTSTART:20131103T060000
END:STANDARD
END:VTIMEZONE
BEGIN:VEVENT
DTSTART;TZID=America/Toronto:20131112T083000
DTEND;TZID=America/Toronto:20131112T130000
DTSTAMP:20260420T133407
CREATED:20130814T194612Z
LAST-MODIFIED:20130816T185744Z
UID:2878-1384245000-1384261200@www.preventionlink.ca
SUMMARY:Disability Prevention Roadmap (Hamilton)
DESCRIPTION:This 1/2 day community awareness event will review the impact of occupational injuries and disability and practical strategies and solutions to improve prevention and return to work outcomes.  Participants are encouraged to look out-side the box to discover innovative solutions. \nThe cost is $89/participant and includes guided instruction\, all course material\, refreshments and certificate of completion.  Spaces are limited so book early to secure a seat. \nContact: www.odrt.ca or call:  1.800.668.9138
URL:https://www.preventionlink.ca/event/disability-prevention-roadmap-hamilton/
LOCATION:CAW Local 555 Hall\, 45 Frid St.\, Hamilton\, ON\, Canada
ORGANIZER;CN="Nancy Clark":MAILTO:nclark@odrt.ca
GEO:43.2596625;-79.8924018
X-APPLE-STRUCTURED-LOCATION;VALUE=URI;X-ADDRESS=CAW Local 555 Hall 45 Frid St. Hamilton ON Canada;X-APPLE-RADIUS=500;X-TITLE=45 Frid St.:geo:-79.8924018,43.2596625
END:VEVENT
END:VCALENDAR