BEGIN:VCALENDAR
VERSION:2.0
PRODID:-//Prevention Link - ECPv6.3.6//NONSGML v1.0//EN
CALSCALE:GREGORIAN
METHOD:PUBLISH
X-ORIGINAL-URL:https://www.preventionlink.ca
X-WR-CALDESC:Events for Prevention Link
REFRESH-INTERVAL;VALUE=DURATION:PT1H
X-Robots-Tag:noindex
X-PUBLISHED-TTL:PT1H
BEGIN:VTIMEZONE
TZID:America/Toronto
BEGIN:DAYLIGHT
TZOFFSETFROM:-0500
TZOFFSETTO:-0400
TZNAME:EDT
DTSTART:20180311T070000
END:DAYLIGHT
BEGIN:STANDARD
TZOFFSETFROM:-0400
TZOFFSETTO:-0500
TZNAME:EST
DTSTART:20181104T060000
END:STANDARD
END:VTIMEZONE
BEGIN:VEVENT
DTSTART;VALUE=DATE:20181022
DTEND;VALUE=DATE:20181024
DTSTAMP:20260419T231420
CREATED:20180816T122131Z
LAST-MODIFIED:20181015T183852Z
UID:6075-1540166400-1540339199@www.preventionlink.ca
SUMMARY:Fall 2018 Workers’ Compensation 101 & Return to Work 101 Workshop – OTTAWA
DESCRIPTION:This fall\, join Prevention Link for a comprehensive workshop that introduces participants to Ontario’s compensation system by exploring compensation legislation\, its principles and third party rights of action\, services and benefits\, as well as strategies to assist workers’ with disabilities. \n\n\n\n\n\n\n\n\n\n\nCourses offered:  \n\nWorkers’ Compensation 101  on Oct. 22\, 2018\nReturn to Work 101 on Oct. 23\, 2018\n\nWho should attend: Anyone in a role with whom workers make contact following a workplace injury or with disability accommodation requests: workers\, employers\, union reps\, stewards\, supervisors. \nCost:\nOne-Course Package (Workers’ Comp 101 or Return to Work 101): $149.00 per person\nTwo-Course Package (Workers’ Comp 101 & Return to Work 101 taken together): $275.00 per person.\n**Cost includes course material\, guided instruction\, certificate of completion\, lunch. \n\nREGISTER BELOW OR DOWNLOAD THE REGISTRATION FORM HERE.
URL:https://www.preventionlink.ca/event/fall-2018-workers-compensation-101-return-to-work-101-workshop-ottawa/
LOCATION:CUPE Office\, Room 107\, 1378 Triole St.\, Ottawa\, Ontario\, Canada
GEO:45.4166883;-75.6319041
X-APPLE-STRUCTURED-LOCATION;VALUE=URI;X-ADDRESS=CUPE Office Room 107 1378 Triole St. Ottawa Ontario Canada;X-APPLE-RADIUS=500;X-TITLE=1378 Triole St.:geo:-75.6319041,45.4166883
END:VEVENT
END:VCALENDAR