BEGIN:VCALENDAR
VERSION:2.0
PRODID:-//Prevention Link - ECPv6.3.6//NONSGML v1.0//EN
CALSCALE:GREGORIAN
METHOD:PUBLISH
X-ORIGINAL-URL:https://www.preventionlink.ca
X-WR-CALDESC:Events for Prevention Link
REFRESH-INTERVAL;VALUE=DURATION:PT1H
X-Robots-Tag:noindex
X-PUBLISHED-TTL:PT1H
BEGIN:VTIMEZONE
TZID:America/Toronto
BEGIN:DAYLIGHT
TZOFFSETFROM:-0500
TZOFFSETTO:-0400
TZNAME:EDT
DTSTART:20130310T070000
END:DAYLIGHT
BEGIN:STANDARD
TZOFFSETFROM:-0400
TZOFFSETTO:-0500
TZNAME:EST
DTSTART:20131103T060000
END:STANDARD
END:VTIMEZONE
BEGIN:VEVENT
DTSTART;VALUE=DATE:20130930
DTEND;VALUE=DATE:20131005
DTSTAMP:20260422T133158
CREATED:20130814T201723Z
LAST-MODIFIED:20130814T201723Z
UID:2880-1380499200-1380931199@www.preventionlink.ca
SUMMARY:Essentials Level I\, II and Accommodation (Niagara Falls)
DESCRIPTION:This 5 day course begins by exploring the history of the compensation system in Ontario and development of compensation legislation and general principles. You will examine how the Workplace Safety and Insurance Board (WSIB) determines whether an injury is compensable and types of workplace injuries and occupational illnesses. The course covers how to properly file a claim\, and includes the timelines that are applicable. Worker and Employer obligations are also covered as well as roles and responsibilities with respect to work reintegration. The WSIB work reintegration policies are discussed and the new direction that the Board is taking with respect to returning workers to their pre-injury job with the injury employer. Shared responsibilities are also discussed and ways in which unions should participate in work reintegration are explored. Leading research shows that a collaborative and cooperative approach to work reintegration following the hierarchy of jobs\, beginning with pre-injury job\, leads to better outcomes for both workers and employers. Protections under other legislation are also discussed should a work reintegration plan not provide sufficient protection to a worker in a work reintegration plan.
URL:https://www.preventionlink.ca/event/essentials-level-i-ii-and-accommodation-niagara-falls/
LOCATION:Embassy Suites\, 6700 Fallsview Boulevard\, Niagara Falls\, ON\,  L2G 3W6\, Canada
ORGANIZER;CN="Sue Fratric":MAILTO:info@preventionlink.ca
GEO:43.0795232;-79.0821073
X-APPLE-STRUCTURED-LOCATION;VALUE=URI;X-ADDRESS=Embassy Suites 6700 Fallsview Boulevard Niagara Falls ON  L2G 3W6 Canada;X-APPLE-RADIUS=500;X-TITLE=6700 Fallsview Boulevard:geo:-79.0821073,43.0795232
END:VEVENT
BEGIN:VEVENT
DTSTART;VALUE=DATE:20130929
DTEND;VALUE=DATE:20131005
DTSTAMP:20260422T133158
CREATED:20130814T210055Z
LAST-MODIFIED:20130814T210055Z
UID:2883-1380412800-1380931199@www.preventionlink.ca
SUMMARY:Occupational Disease (Niagara Falls)
DESCRIPTION:This 6 day course begins by exploring the impact of occupational disease on society and workplaces\,\nthe lessons that have been learned and current developments in occupational disease claims.\nParticipants will learn both the legal test and medical standards for causation\, how legal principles apply\nin an appeal and the significance of apportionment. The field of epidemiology is examined\, including the\ndifferent types of studies\, how data is analyzed and what to look for when assessing a study. Toxicology\nand other evidence and how they are gathered and what weight is put on them are discussed as well as\nhow to prepare to examine an expert witness. The Industrial Disease Panel is discussed and the\nadjudication process is explained with information on how to best ensure a successful adjudication. \nTo further understand this complex subject\, a number of occupational diseases are studied with respect\nto their risk factors\, diagnostic testing and how to argue causal links using the WSIA\, policies and WSIAT\ndecisions. Survivor benefits provided by the WSIB are also presented.
URL:https://www.preventionlink.ca/event/occupational-disease-niagara-falls/
LOCATION:Embassy Suites\, 6700 Fallsview Boulevard\, Niagara Falls\, ON\,  L2G 3W6\, Canada
ORGANIZER;CN="Sue Fratric":MAILTO:info@preventionlink.ca
GEO:43.0795232;-79.0821073
X-APPLE-STRUCTURED-LOCATION;VALUE=URI;X-ADDRESS=Embassy Suites 6700 Fallsview Boulevard Niagara Falls ON  L2G 3W6 Canada;X-APPLE-RADIUS=500;X-TITLE=6700 Fallsview Boulevard:geo:-79.0821073,43.0795232
END:VEVENT
BEGIN:VEVENT
DTSTART;VALUE=DATE:20130929
DTEND;VALUE=DATE:20131005
DTSTAMP:20260422T133158
CREATED:20130814T202207Z
LAST-MODIFIED:20130814T202207Z
UID:2882-1380412800-1380931199@www.preventionlink.ca
SUMMARY:Appeals and Dispute Resolution (Niagara Falls)
DESCRIPTION:In this 6 day course\, participants will learn the structure of the appeals branch of the Workplace\nSafety and Insurance Board (WSIB)\, how to begin the appeals process and the legal principles involved.\nPreparation for a hearing will be examined including: review of the file\, gathering additional evidence\,\nresearching law\, policy and precedent and preparation of witnesses. Further information on\nquestioning\, cross questioning and re-direct at a hearing are discussed. Hearing presentations are\ndiscussed with respect to oral advocacy\, code of conduct\, opening and closing statements\, objections\nand use of legal precedents. Further to the WSIB appeal process\, the Workplace Safety and Appeals\nTribunal WSIAT) process is also discussed. In addition to the information presented\, participants will\nwork with a claim file and\, in groups\, represent both worker and employer interests at the WSIB appeal\nlevel and at a WSIAT by presenting in front of an Appeals Resolution officer and a Vice Chair\nrespectively.
URL:https://www.preventionlink.ca/event/appeals-and-dispute-resolution-niagara-falls/
LOCATION:Embassy Suites\, 6700 Fallsview Boulevard\, Niagara Falls\, ON\,  L2G 3W6\, Canada
ORGANIZER;CN="Sue Fratric":MAILTO:info@preventionlink.ca
GEO:43.0795232;-79.0821073
X-APPLE-STRUCTURED-LOCATION;VALUE=URI;X-ADDRESS=Embassy Suites 6700 Fallsview Boulevard Niagara Falls ON  L2G 3W6 Canada;X-APPLE-RADIUS=500;X-TITLE=6700 Fallsview Boulevard:geo:-79.0821073,43.0795232
END:VEVENT
END:VCALENDAR