BEGIN:VCALENDAR
VERSION:2.0
PRODID:-//Prevention Link - ECPv6.3.6//NONSGML v1.0//EN
CALSCALE:GREGORIAN
METHOD:PUBLISH
X-WR-CALNAME:Prevention Link
X-ORIGINAL-URL:https://www.preventionlink.ca
X-WR-CALDESC:Events for Prevention Link
REFRESH-INTERVAL;VALUE=DURATION:PT1H
X-Robots-Tag:noindex
X-PUBLISHED-TTL:PT1H
BEGIN:VTIMEZONE
TZID:America/Toronto
BEGIN:DAYLIGHT
TZOFFSETFROM:-0500
TZOFFSETTO:-0400
TZNAME:EDT
DTSTART:20140309T070000
END:DAYLIGHT
BEGIN:STANDARD
TZOFFSETFROM:-0400
TZOFFSETTO:-0500
TZNAME:EST
DTSTART:20141102T060000
END:STANDARD
END:VTIMEZONE
BEGIN:VEVENT
DTSTART;TZID=America/Toronto:20140207T083000
DTEND;TZID=America/Toronto:20140207T123000
DTSTAMP:20260422T014651
CREATED:20131114T232746Z
LAST-MODIFIED:20140119T221839Z
UID:3090-1391761800-1391776200@www.preventionlink.ca
SUMMARY:Disability Prevention - Peterborough
DESCRIPTION:This 1/2 day community awareness event will review the impact of occupational injuries and disability and practical strategies and solutions to improve prevention and return to work outcomes. Participants are encouraged to look out-side the box to discover innovative solutions. \nThe cost is $89/participant and includes guided instruction\, all course material\, refreshments and certificate of completion. Spaces are limited so book early to secure a seat. \nContact: www.odrt.ca or call: 1.800.668.9138 \n\n\n \n\n\n Course Location\n\n\nSt Catharines Peterborough Guelph Toronto Sarnia Oakville Owen Sound Kingston Ottawa Noth Bay  \n\n\nParticipant Name
URL:https://www.preventionlink.ca/event/disability-prevention-peterborough/
LOCATION:Unifor\, Local 524\, 203 Park Street North\, Peterborough\, Ontario\, Canada
ORGANIZER;CN="Nancy Clark":MAILTO:nclark@odrt.ca
GEO:44.2993739;-78.3276841
X-APPLE-STRUCTURED-LOCATION;VALUE=URI;X-ADDRESS=Unifor Local 524 203 Park Street North Peterborough Ontario Canada;X-APPLE-RADIUS=500;X-TITLE=203 Park Street North:geo:-78.3276841,44.2993739
END:VEVENT
END:VCALENDAR