BEGIN:VCALENDAR
VERSION:2.0
PRODID:-//Prevention Link - ECPv6.3.6//NONSGML v1.0//EN
CALSCALE:GREGORIAN
METHOD:PUBLISH
X-ORIGINAL-URL:https://www.preventionlink.ca
X-WR-CALDESC:Events for Prevention Link
REFRESH-INTERVAL;VALUE=DURATION:PT1H
X-Robots-Tag:noindex
X-PUBLISHED-TTL:PT1H
BEGIN:VTIMEZONE
TZID:America/Toronto
BEGIN:DAYLIGHT
TZOFFSETFROM:-0500
TZOFFSETTO:-0400
TZNAME:EDT
DTSTART:20140309T070000
END:DAYLIGHT
BEGIN:STANDARD
TZOFFSETFROM:-0400
TZOFFSETTO:-0500
TZNAME:EST
DTSTART:20141102T060000
END:STANDARD
BEGIN:DAYLIGHT
TZOFFSETFROM:-0500
TZOFFSETTO:-0400
TZNAME:EDT
DTSTART:20150308T070000
END:DAYLIGHT
BEGIN:STANDARD
TZOFFSETFROM:-0400
TZOFFSETTO:-0500
TZNAME:EST
DTSTART:20151101T060000
END:STANDARD
END:VTIMEZONE
BEGIN:VEVENT
DTSTART;VALUE=DATE:20151104
DTEND;VALUE=DATE:20151105
DTSTAMP:20260422T131411
CREATED:20150116T161711Z
LAST-MODIFIED:20150715T153923Z
UID:4060-1446595200-1446681599@www.preventionlink.ca
SUMMARY:Confronting Occupational Disability (London)
DESCRIPTION:This 1 day composite course includes sessions on The Disability Dilemma and Disability Prevention Strategies. Participants will examine the impact of work injury and disability\, on injured workers\, their families\, employers\, unions\, government\, workplace insurance and health care providers. They will discuss ways that workplaces can achieve a strategic fit with legal requirements and best practices for return to work. Participants will also examine the need to shift the paradigm from viewing occupational disability as a weakness and threat to seeing it as an opportunity to make workplaces safer and more productive. \n \n  \n  \nClick on the image above to fill out a registration form.\nSave and email to info@odrt.ca. \nUpcoming Locations:
URL:https://www.preventionlink.ca/event/confronting-occupational-disability-ottawa/
LOCATION:Unnamed Venue\, Ottawa\, Ontario\, Canada
ORGANIZER;CN="Sue Fratric":MAILTO:info@preventionlink.ca
GEO:45.4215296;-75.6971931
END:VEVENT
BEGIN:VEVENT
DTSTART;TZID=America/Toronto:20150124T090000
DTEND;TZID=America/Toronto:20150125T160000
DTSTAMP:20260422T131411
CREATED:20150116T211825Z
LAST-MODIFIED:20150116T211825Z
UID:4089-1422090000-1422201600@www.preventionlink.ca
SUMMARY:Workplace Insurance - Level I Ottawa
DESCRIPTION:The Workplace Insurance Level I course examines the history of the compensation system in Ontario and the development of compensation legislation and the general principles of the system. Participants will learn how the Workplace Safety and Insurance Board (WSIB) determines whether an injury is compensable and learn about some workplace injuries and occupational illnesses. The course covers how to properly file a claim\, and includes the timelines that are applicable. Worker and Employer obligations are covered as well as roles and responsibilities with respect to work reintegration.  Protections under other legislation are also discussed should a return to work plan not provide sufficient protection to a worker in a work reintegration program. Participants will learn the significance of legislation (WSIA)\, regulations and policy\, including changes to the legislation and the effects these changes have on benefits.
URL:https://www.preventionlink.ca/event/workplace-insurance-level-i-ottawa-2/
LOCATION:Unnamed Venue\, Ottawa\, Ontario\, Canada
ORGANIZER;CN="Sue Fratric":MAILTO:info@preventionlink.ca
GEO:45.4215296;-75.6971931
END:VEVENT
BEGIN:VEVENT
DTSTART;VALUE=DATE:20140524
DTEND;VALUE=DATE:20140526
DTSTAMP:20260422T131411
CREATED:20131121T184819Z
LAST-MODIFIED:20140110T023753Z
UID:3154-1400889600-1401062399@www.preventionlink.ca
SUMMARY:Workplace Insurance Level II Ottawa
DESCRIPTION:The Workplace Insurance Level II course examines legislation (WSIA)\, regulations\, policy and recent legislative changes. The course also looks at the structure of the WSIB\, how it is funded\, incentive programs and the adjudication and appeals processes.  Participants will review benefits available under the Act that apply to three different eras.   They will also examine how to calculate maximum and minimum levels as well as exclusion periods and offsets.  The course provides information on how to communicate effectively with insurance and health care providers\, injured workers and witnesses involved in appeals.  The organization of a Board file is presented and participants explore how to effectively review a file\, make a case plan to proceed to move a claim forward and use this knowledge to review a case file.
URL:https://www.preventionlink.ca/event/workplace-insurance-level-ii-ottawa/
LOCATION:Unnamed Venue\, Ottawa\, Ontario\, Canada
ORGANIZER;CN="Sue Fratric":MAILTO:info@preventionlink.ca
GEO:45.4215296;-75.6971931
END:VEVENT
BEGIN:VEVENT
DTSTART;VALUE=DATE:20140426
DTEND;VALUE=DATE:20140428
DTSTAMP:20260422T131411
CREATED:20131121T162751Z
LAST-MODIFIED:20140110T023900Z
UID:3134-1398470400-1398643199@www.preventionlink.ca
SUMMARY:Workplace Insurance - Level I Ottawa
DESCRIPTION:The Workplace Insurance Level I course examines the history of the compensation system in Ontario and the development of compensation legislation and the general principles of the system. Participants will learn how the Workplace Safety and Insurance Board (WSIB) determines whether an injury is compensable and learn about some workplace injuries and occupational illnesses. The course covers how to properly file a claim\, and includes the timelines that are applicable. Worker and Employer obligations are covered as well as roles and responsibilities with respect to work reintegration.  Protections under other legislation are also discussed should a return to work plan not provide sufficient protection to a worker in a work reintegration program. Participants will learn the significance of legislation (WSIA)\, regulations and policy\, including changes to the legislation and the effects these changes have on benefits.
URL:https://www.preventionlink.ca/event/workplace-insurance-level-i-ottawa/
LOCATION:Unnamed Venue\, Ottawa\, Ontario\, Canada
ORGANIZER;CN="Sue Fratric":MAILTO:info@preventionlink.ca
GEO:45.4215296;-75.6971931
END:VEVENT
END:VCALENDAR