BEGIN:VCALENDAR
VERSION:2.0
PRODID:-//Prevention Link - ECPv6.3.6//NONSGML v1.0//EN
CALSCALE:GREGORIAN
METHOD:PUBLISH
X-ORIGINAL-URL:https://www.preventionlink.ca
X-WR-CALDESC:Events for Prevention Link
REFRESH-INTERVAL;VALUE=DURATION:PT1H
X-Robots-Tag:noindex
X-PUBLISHED-TTL:PT1H
BEGIN:VTIMEZONE
TZID:America/Toronto
BEGIN:DAYLIGHT
TZOFFSETFROM:-0500
TZOFFSETTO:-0400
TZNAME:EDT
DTSTART:20150308T070000
END:DAYLIGHT
BEGIN:STANDARD
TZOFFSETFROM:-0400
TZOFFSETTO:-0500
TZNAME:EST
DTSTART:20151101T060000
END:STANDARD
END:VTIMEZONE
BEGIN:VEVENT
DTSTART;VALUE=DATE:20151014
DTEND;VALUE=DATE:20151015
DTSTAMP:20260420T174353
CREATED:20150116T161444Z
LAST-MODIFIED:20150715T153947Z
UID:4058-1444780800-1444867199@www.preventionlink.ca
SUMMARY:Confronting Occupational Disability (Barrie)
DESCRIPTION:This 1 day composite course includes sessions on The Disability Dilemma and Disability Prevention Strategies. Participants will examine the impact of work injury and disability\, on injured workers\, their families\, employers\, unions\, government\, workplace insurance and health care providers. They will discuss ways that workplaces can achieve a strategic fit with legal requirements and best practices for return to work. Participants will also examine the need to shift the paradigm from viewing occupational disability as a weakness and threat to seeing it as an opportunity to make workplaces safer and more productive. \n \n  \n  \nClick on the image above to fill out a registration form.\nSave and email to info@odrt.ca. \nUpcoming Locations:
URL:https://www.preventionlink.ca/event/confronting-occupational-disability-kitchener/
LOCATION:Unnamed Venue\, Kitchener\, Ontario\, Canada
ORGANIZER;CN="Sue Fratric":MAILTO:info@preventionlink.ca
GEO:43.45;-80.483333
END:VEVENT
END:VCALENDAR